Package: biodbUniprot Version: 1.13.0 Maintainer: Pierrick Roger MaintainerEmail: pierrick.roger at cea.fr git_url: https://git.bioconductor.org/packages/biodbUniprot git_branch: devel git_last_commit: 098a02a git_last_commit_date: 2024-10-29 11:05:26 -0500 (Tue, 29 Oct 2024)