Package: biodbUniprot Version: 1.13.0 Command: /Library/Frameworks/R.framework/Resources/bin/R CMD check --install=check:biodbUniprot.install-out.txt --library=/Library/Frameworks/R.framework/Resources/library --no-vignettes --timings biodbUniprot_1.13.0.tar.gz StartedAt: 2025-02-09 18:17:05 -0500 (Sun, 09 Feb 2025) EndedAt: 2025-02-09 18:18:24 -0500 (Sun, 09 Feb 2025) EllapsedTime: 79.0 seconds RetCode: 0 Status: OK CheckDir: biodbUniprot.Rcheck Warnings: 0