Package: biodbUniprot Version: 1.13.0 Command: rm -rf biodbUniprot.buildbin-libdir && mkdir biodbUniprot.buildbin-libdir && /Users/biocbuild/BBS/utils/build-universal.sh biodbUniprot_1.13.0.tar.gz /Library/Frameworks/R.framework/Resources/bin/R biodbUniprot.buildbin-libdir StartedAt: 2025-02-04 00:24:43 -0500 (Tue, 04 Feb 2025) EndedAt: 2025-02-04 00:24:56 -0500 (Tue, 04 Feb 2025) EllapsedTime: 12.9 seconds RetCode: 0 Status: OK PackageFile: biodbUniprot_1.13.0.tgz PackageFileSize: 492.6 KiB