Package: biodbUniprot Version: 1.13.0 Command: /Library/Frameworks/R.framework/Resources/bin/R CMD check --install=check:biodbUniprot.install-out.txt --library=/Library/Frameworks/R.framework/Resources/library --no-vignettes --timings biodbUniprot_1.13.0.tar.gz StartedAt: 2025-02-03 19:14:09 -0500 (Mon, 03 Feb 2025) EndedAt: 2025-02-03 19:16:50 -0500 (Mon, 03 Feb 2025) EllapsedTime: 161.4 seconds RetCode: 0 Status: OK CheckDir: biodbUniprot.Rcheck Warnings: 0