Package: biodbUniprot Version: 1.13.0 Command: /home/biocbuild/bbs-3.21-bioc/R/bin/R CMD check --install=check:biodbUniprot.install-out.txt --library=/home/biocbuild/bbs-3.21-bioc/R/site-library --timings biodbUniprot_1.13.0.tar.gz StartedAt: 2025-02-09 20:26:17 -0500 (Sun, 09 Feb 2025) EndedAt: 2025-02-09 20:28:19 -0500 (Sun, 09 Feb 2025) EllapsedTime: 122.2 seconds RetCode: 0 Status: OK CheckDir: biodbUniprot.Rcheck Warnings: 0