Package: biodbUniprot Version: 1.13.0 Command: rm -rf biodbUniprot.buildbin-libdir && mkdir biodbUniprot.buildbin-libdir && E:\biocbuild\bbs-3.21-bioc\R\bin\R.exe CMD INSTALL --build --library=biodbUniprot.buildbin-libdir biodbUniprot_1.13.0.tar.gz StartedAt: 2025-02-10 07:18:59 -0500 (Mon, 10 Feb 2025) EndedAt: 2025-02-10 07:19:15 -0500 (Mon, 10 Feb 2025) EllapsedTime: 16.0 seconds RetCode: 0 Status: OK PackageFile: biodbUniprot_1.13.0.zip PackageFileSize: 499 KiB