Package: biodbUniprot Version: 1.13.0 Command: E:\biocbuild\bbs-3.21-bioc\R\bin\R.exe CMD check --no-multiarch --install=check:biodbUniprot.install-out.txt --library=E:\biocbuild\bbs-3.21-bioc\R\library --no-vignettes --timings biodbUniprot_1.13.0.tar.gz StartedAt: 2025-02-03 23:33:57 -0500 (Mon, 03 Feb 2025) EndedAt: 2025-02-03 23:37:04 -0500 (Mon, 03 Feb 2025) EllapsedTime: 187.2 seconds RetCode: 0 Status: OK CheckDir: biodbUniprot.Rcheck Warnings: 0