Package: biodbUniprot Version: 1.13.0 Command: E:\biocbuild\bbs-3.21-bioc\R\bin\R.exe CMD INSTALL biodbUniprot StartedAt: 2025-02-03 16:12:26 -0500 (Mon, 03 Feb 2025) EndedAt: 2025-02-03 16:12:44 -0500 (Mon, 03 Feb 2025) EllapsedTime: 18.9 seconds RetCode: 0 Status: OK