Package: biomformat Version: 1.35.0 Command: /Library/Frameworks/R.framework/Resources/bin/R CMD build --keep-empty-dirs --no-resave-data biomformat StartedAt: 2025-02-12 15:42:20 -0500 (Wed, 12 Feb 2025) EndedAt: 2025-02-12 15:42:25 -0500 (Wed, 12 Feb 2025) EllapsedTime: 5.1 seconds RetCode: 0 Status: OK PackageFile: biomformat_1.35.0.tar.gz PackageFileSize: 299.8 KiB