Package: biomformat Version: 1.35.0 Command: /Library/Frameworks/R.framework/Resources/bin/R CMD INSTALL biomformat StartedAt: 2025-02-12 15:03:27 -0500 (Wed, 12 Feb 2025) EndedAt: 2025-02-12 15:03:31 -0500 (Wed, 12 Feb 2025) EllapsedTime: 3.5 seconds RetCode: 0 Status: OK