Package: biomformat Version: 1.35.0 Command: /Library/Frameworks/R.framework/Resources/bin/R CMD build --keep-empty-dirs --no-resave-data biomformat StartedAt: 2025-02-09 16:04:09 -0500 (Sun, 09 Feb 2025) EndedAt: 2025-02-09 16:04:23 -0500 (Sun, 09 Feb 2025) EllapsedTime: 13.7 seconds RetCode: 0 Status: OK PackageFile: biomformat_1.35.0.tar.gz PackageFileSize: 299.8 KiB