Package: biomformat Version: 1.35.0 Command: chmod a+r biomformat -R && E:\biocbuild\bbs-3.21-bioc\R\bin\R.exe CMD build --keep-empty-dirs --no-resave-data biomformat StartedAt: 2025-02-09 17:31:13 -0500 (Sun, 09 Feb 2025) EndedAt: 2025-02-09 17:31:41 -0500 (Sun, 09 Feb 2025) EllapsedTime: 28.3 seconds RetCode: 0 Status: OK PackageFile: biomformat_1.35.0.tar.gz PackageFileSize: 268.8 KiB