Package: biomvRCNS Version: 1.47.0 Maintainer: Yang Du MaintainerEmail: tooyoung at gmail.com git_url: https://git.bioconductor.org/packages/biomvRCNS git_branch: devel git_last_commit: de5ca15 git_last_commit_date: 2024-10-29 11:26:08 -0500 (Tue, 29 Oct 2024)