Package: biomvRCNS Version: 1.47.0 Command: /Library/Frameworks/R.framework/Resources/bin/R CMD check --install=check:biomvRCNS.install-out.txt --library=/Library/Frameworks/R.framework/Resources/library --no-vignettes --timings biomvRCNS_1.47.0.tar.gz StartedAt: 2025-02-03 18:53:39 -0500 (Mon, 03 Feb 2025) EndedAt: 2025-02-03 18:55:49 -0500 (Mon, 03 Feb 2025) EllapsedTime: 130.0 seconds RetCode: 0 Status: OK CheckDir: biomvRCNS.Rcheck Warnings: 0