Package: biomvRCNS Version: 1.47.0 Command: /Library/Frameworks/R.framework/Resources/bin/R CMD INSTALL biomvRCNS StartedAt: 2025-02-04 15:17:05 -0500 (Tue, 04 Feb 2025) EndedAt: 2025-02-04 15:17:27 -0500 (Tue, 04 Feb 2025) EllapsedTime: 22.1 seconds RetCode: 0 Status: OK