Package: biomvRCNS Version: 1.47.0 Command: /home/biocbuild/R/R/bin/R CMD check --install=check:biomvRCNS.install-out.txt --library=/home/biocbuild/R/R/site-library --no-vignettes --timings biomvRCNS_1.47.0.tar.gz StartedAt: 2025-01-28 03:56:49 -0000 (Tue, 28 Jan 2025) EndedAt: 2025-01-28 08:39:55 -0000 (Tue, 28 Jan 2025) EllapsedTime: 16986.1 seconds RetCode: None Status: TIMEOUT CheckDir: biomvRCNS.Rcheck Warnings: NA