Package: biomvRCNS Version: 1.47.0 Command: rm -rf biomvRCNS.buildbin-libdir && mkdir biomvRCNS.buildbin-libdir && /Users/biocbuild/BBS/utils/build-universal.sh biomvRCNS_1.47.0.tar.gz /Library/Frameworks/R.framework/Resources/bin/R biomvRCNS.buildbin-libdir StartedAt: 2025-02-10 00:44:05 -0500 (Mon, 10 Feb 2025) EndedAt: 2025-02-10 00:45:23 -0500 (Mon, 10 Feb 2025) EllapsedTime: 78.1 seconds RetCode: 0 Status: OK PackageFile: biomvRCNS_1.47.0.tgz PackageFileSize: 1.266 MiB