Package: biomvRCNS Version: 1.47.0 Command: /Library/Frameworks/R.framework/Resources/bin/R CMD check --install=check:biomvRCNS.install-out.txt --library=/Library/Frameworks/R.framework/Resources/library --no-vignettes --timings biomvRCNS_1.47.0.tar.gz StartedAt: 2025-02-09 19:21:51 -0500 (Sun, 09 Feb 2025) EndedAt: 2025-02-09 19:32:31 -0500 (Sun, 09 Feb 2025) EllapsedTime: 640.4 seconds RetCode: 0 Status: OK CheckDir: biomvRCNS.Rcheck Warnings: 0