Package: biomvRCNS Version: 1.47.0 Command: /home/biocbuild/bbs-3.21-bioc/R/bin/R CMD build --keep-empty-dirs --no-resave-data biomvRCNS StartedAt: 2025-02-04 16:22:00 -0500 (Tue, 04 Feb 2025) EndedAt: 2025-02-04 16:23:45 -0500 (Tue, 04 Feb 2025) EllapsedTime: 105.1 seconds RetCode: 0 Status: OK PackageFile: biomvRCNS_1.47.0.tar.gz PackageFileSize: 806.9 KiB