Package: biomvRCNS Version: 1.47.0 Command: rm -rf biomvRCNS.buildbin-libdir && mkdir biomvRCNS.buildbin-libdir && E:\biocbuild\bbs-3.21-bioc\R\bin\R.exe CMD INSTALL --build --library=biomvRCNS.buildbin-libdir biomvRCNS_1.47.0.tar.gz StartedAt: 2025-02-05 07:32:05 -0500 (Wed, 05 Feb 2025) EndedAt: 2025-02-05 07:33:22 -0500 (Wed, 05 Feb 2025) EllapsedTime: 77.5 seconds RetCode: 0 Status: OK PackageFile: biomvRCNS_1.47.0.zip PackageFileSize: 1.036 MiB