Package: biomvRCNS Version: 1.47.0 Command: E:\biocbuild\bbs-3.21-bioc\R\bin\R.exe CMD check --no-multiarch --install=check:biomvRCNS.install-out.txt --library=E:\biocbuild\bbs-3.21-bioc\R\library --no-vignettes --timings biomvRCNS_1.47.0.tar.gz StartedAt: 2025-02-04 23:31:58 -0500 (Tue, 04 Feb 2025) EndedAt: 2025-02-04 23:39:02 -0500 (Tue, 04 Feb 2025) EllapsedTime: 423.4 seconds RetCode: 0 Status: OK CheckDir: biomvRCNS.Rcheck Warnings: 0