Package: biosigner Version: 1.35.0 Command: /Library/Frameworks/R.framework/Resources/bin/R CMD build --keep-empty-dirs --no-resave-data biosigner StartedAt: 2025-02-09 15:42:57 -0500 (Sun, 09 Feb 2025) EndedAt: 2025-02-09 15:43:57 -0500 (Sun, 09 Feb 2025) EllapsedTime: 60.6 seconds RetCode: 0 Status: OK PackageFile: biosigner_1.35.0.tar.gz PackageFileSize: 4.562 MiB