Package: biosigner Version: 1.35.0 Command: /Library/Frameworks/R.framework/Resources/bin/R CMD check --install=check:biosigner.install-out.txt --library=/Library/Frameworks/R.framework/Resources/library --no-vignettes --timings biosigner_1.35.0.tar.gz StartedAt: 2025-02-09 18:18:14 -0500 (Sun, 09 Feb 2025) EndedAt: 2025-02-09 18:20:12 -0500 (Sun, 09 Feb 2025) EllapsedTime: 118.0 seconds RetCode: 1 Status: ERROR CheckDir: biosigner.Rcheck Warnings: NA