Package: biosigner Version: 1.35.0 Command: rm -rf biosigner.buildbin-libdir && mkdir biosigner.buildbin-libdir && /Users/biocbuild/BBS/utils/build-universal.sh biosigner_1.35.0.tar.gz /Library/Frameworks/R.framework/Resources/bin/R biosigner.buildbin-libdir StartedAt: 2025-02-04 00:24:54 -0500 (Tue, 04 Feb 2025) EndedAt: 2025-02-04 00:25:33 -0500 (Tue, 04 Feb 2025) EllapsedTime: 39.3 seconds RetCode: 0 Status: OK PackageFile: biosigner_1.35.0.tgz PackageFileSize: 4.93 MiB