Package: biosigner Version: 1.35.0 Command: /Library/Frameworks/R.framework/Resources/bin/R CMD build --keep-empty-dirs --no-resave-data biosigner StartedAt: 2025-02-03 16:07:22 -0500 (Mon, 03 Feb 2025) EndedAt: 2025-02-03 16:09:48 -0500 (Mon, 03 Feb 2025) EllapsedTime: 146.7 seconds RetCode: 0 Status: OK PackageFile: biosigner_1.35.0.tar.gz PackageFileSize: 4.561 MiB