Package: biosigner Version: 1.35.0 Command: /Library/Frameworks/R.framework/Resources/bin/R CMD INSTALL biosigner StartedAt: 2025-02-03 15:44:15 -0500 (Mon, 03 Feb 2025) EndedAt: 2025-02-03 15:44:51 -0500 (Mon, 03 Feb 2025) EllapsedTime: 36.0 seconds RetCode: 0 Status: OK