Package: biosigner Version: 1.35.0 Command: /home/biocbuild/bbs-3.21-bioc/R/bin/R CMD build --keep-empty-dirs --no-resave-data biosigner StartedAt: 2025-02-09 16:24:36 -0500 (Sun, 09 Feb 2025) EndedAt: 2025-02-09 16:27:16 -0500 (Sun, 09 Feb 2025) EllapsedTime: 159.2 seconds RetCode: 0 Status: OK PackageFile: biosigner_1.35.0.tar.gz PackageFileSize: 4.478 MiB