Package: biosigner Version: 1.35.0 Command: /home/biocbuild/bbs-3.21-bioc/R/bin/R CMD INSTALL biosigner StartedAt: 2025-02-09 15:37:05 -0500 (Sun, 09 Feb 2025) EndedAt: 2025-02-09 15:37:32 -0500 (Sun, 09 Feb 2025) EllapsedTime: 27.6 seconds RetCode: 0 Status: OK