Package: biosigner Version: 1.35.0 Command: E:\biocbuild\bbs-3.21-bioc\R\bin\R.exe CMD check --no-multiarch --install=check:biosigner.install-out.txt --library=E:\biocbuild\bbs-3.21-bioc\R\library --no-vignettes --timings biosigner_1.35.0.tar.gz StartedAt: 2025-02-09 23:07:08 -0500 (Sun, 09 Feb 2025) EndedAt: 2025-02-09 23:13:33 -0500 (Sun, 09 Feb 2025) EllapsedTime: 385.1 seconds RetCode: 0 Status: OK CheckDir: biosigner.Rcheck Warnings: 0