Package: biosigner Version: 1.35.0 Command: E:\biocbuild\bbs-3.21-bioc\R\bin\R.exe CMD INSTALL biosigner StartedAt: 2025-02-09 16:57:17 -0500 (Sun, 09 Feb 2025) EndedAt: 2025-02-09 16:58:01 -0500 (Sun, 09 Feb 2025) EllapsedTime: 43.7 seconds RetCode: 0 Status: OK