Package: biotmle Version: 1.31.0 Command: rm -rf biotmle.buildbin-libdir && mkdir biotmle.buildbin-libdir && /Users/biocbuild/BBS/utils/build-universal.sh biotmle_1.31.0.tar.gz /Library/Frameworks/R.framework/Resources/bin/R biotmle.buildbin-libdir StartedAt: 2025-02-09 22:07:39 -0500 (Sun, 09 Feb 2025) EndedAt: 2025-02-09 22:07:50 -0500 (Sun, 09 Feb 2025) EllapsedTime: 11.2 seconds RetCode: 0 Status: OK PackageFile: biotmle_1.31.0.tgz PackageFileSize: 369.6 KiB