Package: biotmle Version: 1.31.0 Command: /Library/Frameworks/R.framework/Resources/bin/R CMD check --install=check:biotmle.install-out.txt --library=/Library/Frameworks/R.framework/Resources/library --no-vignettes --timings biotmle_1.31.0.tar.gz StartedAt: 2025-02-09 18:18:21 -0500 (Sun, 09 Feb 2025) EndedAt: 2025-02-09 18:19:45 -0500 (Sun, 09 Feb 2025) EllapsedTime: 83.5 seconds RetCode: 0 Status: OK CheckDir: biotmle.Rcheck Warnings: 0