Package: biotmle Version: 1.31.0 Command: /Library/Frameworks/R.framework/Resources/bin/R CMD INSTALL biotmle StartedAt: 2025-02-12 15:27:39 -0500 (Wed, 12 Feb 2025) EndedAt: 2025-02-12 15:27:50 -0500 (Wed, 12 Feb 2025) EllapsedTime: 10.2 seconds RetCode: 0 Status: OK