Package: biotmle Version: 1.31.0 Command: rm -rf biotmle.buildbin-libdir && mkdir biotmle.buildbin-libdir && /Users/biocbuild/BBS/utils/build-universal.sh biotmle_1.31.0.tar.gz /Library/Frameworks/R.framework/Resources/bin/R biotmle.buildbin-libdir StartedAt: 2025-02-13 00:27:30 -0500 (Thu, 13 Feb 2025) EndedAt: 2025-02-13 00:28:06 -0500 (Thu, 13 Feb 2025) EllapsedTime: 35.9 seconds RetCode: 0 Status: OK PackageFile: biotmle_1.31.0.tgz PackageFileSize: 369.4 KiB