Package: biotmle Version: 1.31.0 Command: /home/biocbuild/bbs-3.21-bioc/R/bin/R CMD build --keep-empty-dirs --no-resave-data biotmle StartedAt: 2025-02-09 16:25:14 -0500 (Sun, 09 Feb 2025) EndedAt: 2025-02-09 16:26:22 -0500 (Sun, 09 Feb 2025) EllapsedTime: 68.1 seconds RetCode: 0 Status: OK PackageFile: biotmle_1.31.0.tar.gz PackageFileSize: 316.1 KiB