Package: biotmle Version: 1.31.0 Command: /home/biocbuild/bbs-3.21-bioc/R/bin/R CMD check --install=check:biotmle.install-out.txt --library=/home/biocbuild/bbs-3.21-bioc/R/site-library --timings biotmle_1.31.0.tar.gz StartedAt: 2025-02-09 20:28:48 -0500 (Sun, 09 Feb 2025) EndedAt: 2025-02-09 20:32:55 -0500 (Sun, 09 Feb 2025) EllapsedTime: 247.4 seconds RetCode: 0 Status: OK CheckDir: biotmle.Rcheck Warnings: 0