Package: biotmle Version: 1.31.0 Command: chmod a+r biotmle -R && E:\biocbuild\bbs-3.21-bioc\R\bin\R.exe CMD build --keep-empty-dirs --no-resave-data biotmle StartedAt: 2025-02-09 17:32:28 -0500 (Sun, 09 Feb 2025) EndedAt: 2025-02-09 17:34:03 -0500 (Sun, 09 Feb 2025) EllapsedTime: 95.6 seconds RetCode: 0 Status: OK PackageFile: biotmle_1.31.0.tar.gz PackageFileSize: 268.8 KiB