Package: biovizBase Version: 1.55.0 Command: /Library/Frameworks/R.framework/Resources/bin/R CMD build --keep-empty-dirs --no-resave-data biovizBase StartedAt: 2025-02-09 15:43:14 -0500 (Sun, 09 Feb 2025) EndedAt: 2025-02-09 15:43:38 -0500 (Sun, 09 Feb 2025) EllapsedTime: 24.2 seconds RetCode: 0 Status: OK PackageFile: biovizBase_1.55.0.tar.gz PackageFileSize: 2.397 MiB