Package: biovizBase Version: 1.55.0 Command: /Library/Frameworks/R.framework/Resources/bin/R CMD check --install=check:biovizBase.install-out.txt --library=/Library/Frameworks/R.framework/Resources/library --no-vignettes --timings biovizBase_1.55.0.tar.gz StartedAt: 2025-02-09 18:18:24 -0500 (Sun, 09 Feb 2025) EndedAt: 2025-02-09 18:20:43 -0500 (Sun, 09 Feb 2025) EllapsedTime: 139.2 seconds RetCode: 0 Status: WARNINGS CheckDir: biovizBase.Rcheck Warnings: 2