Package: biovizBase Version: 1.55.0 Command: /Library/Frameworks/R.framework/Resources/bin/R CMD check --install=check:biovizBase.install-out.txt --library=/Library/Frameworks/R.framework/Resources/library --no-vignettes --timings biovizBase_1.55.0.tar.gz StartedAt: 2025-02-12 19:14:29 -0500 (Wed, 12 Feb 2025) EndedAt: 2025-02-12 19:22:44 -0500 (Wed, 12 Feb 2025) EllapsedTime: 495.6 seconds RetCode: 0 Status: WARNINGS CheckDir: biovizBase.Rcheck Warnings: 2