Package: biovizBase Version: 1.55.0 Command: /home/biocbuild/bbs-3.21-bioc/R/bin/R CMD INSTALL biovizBase StartedAt: 2025-02-09 15:41:22 -0500 (Sun, 09 Feb 2025) EndedAt: 2025-02-09 15:42:07 -0500 (Sun, 09 Feb 2025) EllapsedTime: 45.0 seconds RetCode: 0 Status: OK