Package: biovizBase Version: 1.55.0 Command: rm -rf biovizBase.buildbin-libdir && mkdir biovizBase.buildbin-libdir && E:\biocbuild\bbs-3.21-bioc\R\bin\R.exe CMD INSTALL --build --library=biovizBase.buildbin-libdir biovizBase_1.55.0.tar.gz StartedAt: 2025-02-10 07:19:47 -0500 (Mon, 10 Feb 2025) EndedAt: 2025-02-10 07:21:37 -0500 (Mon, 10 Feb 2025) EllapsedTime: 109.6 seconds RetCode: 0 Status: OK PackageFile: biovizBase_1.55.0.zip PackageFileSize: 2.558 MiB