Package: biovizBase Version: 1.55.0 Command: chmod a+r biovizBase -R && E:\biocbuild\bbs-3.21-bioc\R\bin\R.exe CMD build --keep-empty-dirs --no-resave-data biovizBase StartedAt: 2025-02-09 17:32:39 -0500 (Sun, 09 Feb 2025) EndedAt: 2025-02-09 17:34:12 -0500 (Sun, 09 Feb 2025) EllapsedTime: 93.5 seconds RetCode: 0 Status: OK PackageFile: biovizBase_1.55.0.tar.gz PackageFileSize: 2.217 MiB