Package: biovizBase Version: 1.55.0 Command: E:\biocbuild\bbs-3.21-bioc\R\bin\R.exe CMD INSTALL biovizBase StartedAt: 2025-02-09 16:40:31 -0500 (Sun, 09 Feb 2025) EndedAt: 2025-02-09 16:41:51 -0500 (Sun, 09 Feb 2025) EllapsedTime: 80.1 seconds RetCode: 0 Status: OK