Package: blacksheepr Version: 1.21.0 Command: /Library/Frameworks/R.framework/Resources/bin/R CMD INSTALL blacksheepr StartedAt: 2025-02-12 15:49:59 -0500 (Wed, 12 Feb 2025) EndedAt: 2025-02-12 15:49:59 -0500 (Wed, 12 Feb 2025) EllapsedTime: 0.2 seconds RetCode: 1 Status: ERROR