Package: blima Version: 1.41.0 Command: /Library/Frameworks/R.framework/Resources/bin/R CMD build --keep-empty-dirs --no-resave-data blima StartedAt: 2025-02-09 15:43:38 -0500 (Sun, 09 Feb 2025) EndedAt: 2025-02-09 15:45:21 -0500 (Sun, 09 Feb 2025) EllapsedTime: 103.1 seconds RetCode: 0 Status: OK PackageFile: blima_1.41.0.tar.gz PackageFileSize: 264.5 KiB