Package: blima Version: 1.41.0 Command: chmod a+r blima -R && E:\biocbuild\bbs-3.21-bioc\R\bin\R.exe CMD build --keep-empty-dirs --no-resave-data blima StartedAt: 2025-02-09 17:33:41 -0500 (Sun, 09 Feb 2025) EndedAt: 2025-02-09 17:40:02 -0500 (Sun, 09 Feb 2025) EllapsedTime: 380.9 seconds RetCode: 0 Status: OK PackageFile: blima_1.41.0.tar.gz PackageFileSize: 266.3 KiB