Package: bluster Version: 1.17.0 Command: rm -rf bluster.buildbin-libdir && mkdir bluster.buildbin-libdir && /Users/biocbuild/BBS/utils/build-universal.sh bluster_1.17.0.tar.gz /Library/Frameworks/R.framework/Resources/bin/R bluster.buildbin-libdir StartedAt: 2025-02-09 22:07:48 -0500 (Sun, 09 Feb 2025) EndedAt: 2025-02-09 22:07:57 -0500 (Sun, 09 Feb 2025) EllapsedTime: 9.2 seconds RetCode: 0 Status: OK PackageFile: bluster_1.17.0.tgz PackageFileSize: 3.731 MiB