Package: bluster Version: 1.17.0 Command: /Library/Frameworks/R.framework/Resources/bin/R CMD check --install=check:bluster.install-out.txt --library=/Library/Frameworks/R.framework/Resources/library --no-vignettes --timings bluster_1.17.0.tar.gz StartedAt: 2025-02-09 18:19:29 -0500 (Sun, 09 Feb 2025) EndedAt: 2025-02-09 18:20:24 -0500 (Sun, 09 Feb 2025) EllapsedTime: 54.6 seconds RetCode: 0 Status: OK CheckDir: bluster.Rcheck Warnings: 0