Package: bluster Version: 1.17.0 Command: /Library/Frameworks/R.framework/Resources/bin/R CMD INSTALL bluster StartedAt: 2025-02-09 15:09:38 -0500 (Sun, 09 Feb 2025) EndedAt: 2025-02-09 15:09:46 -0500 (Sun, 09 Feb 2025) EllapsedTime: 7.5 seconds RetCode: 0 Status: OK